							BEGIN:VCALENDAR
VERSION:2.0
PRODID:INOSOFT-Marburg
BEGIN:VTIMEZONE
TZID:Europe/Berlin
X-LIC-LOCATION:Europe/Berlin
BEGIN:DAYLIGHT
TZOFFSETFROM:+0100
TZOFFSETTO:+0200
TZNAME:CEST
DTSTART:19700329T020000
RRULE:FREQ=YEARLY;INTERVAL=1;BYDAY=-1SU;BYMONTH=3
END:DAYLIGHT
BEGIN:STANDARD
TZOFFSETFROM:+0200
TZOFFSETTO:+0100
TZNAME:CET
DTSTART:19701025T030000
RRULE:FREQ=YEARLY;INTERVAL=1;BYDAY=-1SU;BYMONTH=10
END:STANDARD
END:VTIMEZONE
BEGIN:VEVENT
UID:20260423T160000@inosoft.de
DTSTART;TZID=Europe/Berlin:20260423T160000
DTEND;TZID=Europe/Berlin:20260422T091410
DTSTAMP:20260422T091410
SUMMARY:INOSOFT: Denkende Maschinen? Warum AGI weiter weg ist, als es klingt
DESCRIPTION:WeeklyTalk #167 - Video Podcast - https://INOSOFT.de/weeklytalk
URL:https://INOSOFT.de/weeklytalk
LOCATION:Online
END:VEVENT
END:VCALENDAR